BEGIN:VCALENDAR
VERSION:2.0
PRODID:-//wp-events-plugin.com//7.2.3.1//EN
BEGIN:VEVENT
UID:50@nativehands.co.uk
DTSTART:20200403T103000Z
DTEND:20200404T163000Z
DTSTAMP:20200128T102520Z
URL:https://nativehands.co.uk/events/wild-pottery-level-1-april-2/
SUMMARY:Wild Pottery - Level 1 (April)
DESCRIPTION:Click here to see course details\nPlease note: this course runs
  on Friday &amp\; Saturday\n\nPlease read our Terms &amp\; Conditions and 
 FAQs before making a booking\n\nThis course is now fully booked\, but ther
 e are spaces on other Wild Pottery courses this year\n\n&nbsp\;
LOCATION:Dernwood Farm\, Waldron\, Nr Heathfield\, East Sussex\, TN21 0PN\,
  United Kingdom
GEO:50.931704;0.2105099999999993
X-APPLE-STRUCTURED-LOCATION;VALUE=URI;X-ADDRESS=Waldron\, Nr Heathfield\, E
 ast Sussex\, TN21 0PN\, United Kingdom;X-APPLE-RADIUS=100;X-TITLE=Dernwood
  Farm:geo:50.931704,0.2105099999999993
END:VEVENT
END:VCALENDAR