BEGIN:VCALENDAR
VERSION:2.0
PRODID:-//wp-events-plugin.com//7.2.3.1//EN
BEGIN:VEVENT
UID:179@nativehands.co.uk
DTSTART:20231005T100000Z
DTEND:20231005T160000Z
DTSTAMP:20230829T084711Z
URL:https://nativehands.co.uk/events/bramble-baskets-oct-5/
SUMMARY:Bramble Basketmaking (October 5)
DESCRIPTION:One-to-one tuition for Hilary Leighton\n\nPlease read our Booki
 ng info before making a booking.
LOCATION:Dernwood Farm\, Waldron\, Nr Heathfield\, East Sussex\, TN21 0PN\,
  United Kingdom
GEO:50.931704;0.2105099999999993
X-APPLE-STRUCTURED-LOCATION;VALUE=URI;X-ADDRESS=Waldron\, Nr Heathfield\, E
 ast Sussex\, TN21 0PN\, United Kingdom;X-APPLE-RADIUS=100;X-TITLE=Dernwood
  Farm:geo:50.931704,0.2105099999999993
END:VEVENT
END:VCALENDAR